BEGIN:VCALENDAR
VERSION:2.0
PRODID:-//WP EVENT Manager Ical//NONSGML Events //EN
CALSCALE:GREGORIAN

BEGIN:VEVENT

DTSTART:20260629T000000AMZ
DTEND:20260819T000000AMZ
LOCATION:23 Berkeley Road, 1st Floor, Berkeley Cultural Center Pembroke, Bermuda
SUMMARY:Aries Sports Camp
DESCRIPTION:At Aries Sports Camp, we’ve created a space where kids can stay active, build confidence, and have an unforgettable summer. We don’t believe in just keeping children busy—we focus on helping them grow. Through a mix of sports, creativity, and structured activities, we give every camper the opportunity to develop teamwork, discipline, and self-confidence in a fun and supportive environment. Each day is designed to keep things exciting. From kickboxing and tennis to fitness training, arts & crafts, board games, and fun educational outings, there’s always something new to explore. We make sure every child feels included, challenged, and motivated. We also understand how important it is for parents to feel confident in their choice. That’s why we provide a safe, structured, and energetic environment, with a schedule that supports working families while ensuring kids are engaged from drop-off to pick-up. If you’re looking for a camp that offers the perfect balance of fun, structure, and personal development, click here to have your child join us this summer.  Upcoming Summer Camp Weeks:

Summer Break Week 1: June 29th (5 Days)
Summer Break Week 2: July 6th (5 Days)
Summer Break Week 3: July 13th (5 Days)
Summer Break Week 4: July 20th (5 Days)
Summer Break Week 5: July 27th (3 Days)
Summer Break Week 6: August 3rd (5 Days)
Summer Break Week 7: August 10th (5 Days)

Age Group:

Ages 6 to 11

A week at our camp includes:

Drop off between 8:30 AM and 9:00AM
Daily activities (transport & activity pricing included)
Indoor activities such as board games, self defense, kickboxing, and movies.
Outdoor activities such as visits to BUEI, the Aquarium, BIOS, Laser Tag, Arts & Crafts, Visits to Dockyard & St. Georges, and more.
Pick up by 4:30 PM.

Camp Weekly Rates: Weekly Camp Rate – 5 Day Camp:

$225 for 1st Child
$200 for each additional Child

Weekly Camp Rate – 3 Day Camp:

$150 for 1st Child
$135 for each additional Child

Camp Counselor Certifications: 

END:VEVENT
END:VCALENDAR
