BEGIN:VCALENDAR
VERSION:2.0
PRODID:-//WP EVENT Manager Ical//NONSGML Events //EN
CALSCALE:GREGORIAN

BEGIN:VEVENT

DTSTART:20260629T000000AMZ
DTEND:20260717T000000AMZ
LOCATION:In Motion School of Dance
SUMMARY:Dance Theatre Camp
DESCRIPTION:DANCE THEATRE CAMP IS ALMOST HERE! ✨🎭 In Motion is excited to offer 3 weeks of Dance Theatre Camps this summer! Choose one week or join us for all three 🌟 Students will sing, dance, and shine while learning songs and movement from popular musicals!! Week one: The Princess & the Frog 👑🐸 Week two: Kpop Demon Hunters 🗡️💞 Week three: Magic of the Musicals ✨❤️ 📅 June 29 – July 17 ⏰ 9:00am – 3:30pm (aftercare avalible) 👧 Ages 5–11 Led by caring, experienced instructors, our camps focus on building confidence, creativity, and joy through performance 💫 Spots are limited, REGISTER NOW!

END:VEVENT
END:VCALENDAR
