BEGIN:VCALENDAR
VERSION:2.0
PRODID:-//WP EVENT Manager Ical//NONSGML Events //EN
CALSCALE:GREGORIAN

BEGIN:VEVENT

DTSTART:20260706T000000AMZ
DTEND:20260710T000000AMZ
LOCATION:19 Richmond Rd, Hamilton, Bermuda
SUMMARY:Dive Into Digital- a video game design camp based on ocean awareness
DESCRIPTION:Dive into Digital is a one-week creative workshop where teenagers (age 12-17) explore the realities facing our ocean and transform what they learn into their own video game. It blends ocean science with digital design. Participants deepen their understanding of marine ecosystems and human impacts while building coding skills, critical thinking, and collaborative confidence. By the end of the week, each student develops and showcases a game that shares a message of ocean stewardship with a wider audience. No coding experience is needed, as challenges are progressive and lead each participants to be able to master the different concepts and adapt the template to their game specs. More experimented coders will take this to the next level of details, challenge, and content. Comfortable snorkeling recommended for our one outing. This programme was created by Blue Backyard in collaboration with Toxicode, creators of Explorers, international collaborators who will be present during the week.
LOCATION: BHS school, in the Rajeev Kapur Centre for AI Literacy
To REGISTER,  pay here by using the ORDER NOW button, and after payment has been made please click here to provide additional participant&#8217;s details. If  you are unable to reach this info page, please contact us at alex@bluebackyard.org.
Cancellation refund policy.  No cancellation will be accepted after June 30, 2026. If you need to cancel before this date, please email Alex@bluebackyard.org to arrange refund. This may take a few business days.

END:VEVENT
END:VCALENDAR
