BEGIN:VCALENDAR
VERSION:2.0
PRODID:-//WP EVENT Manager Ical//NONSGML Events //EN
CALSCALE:GREGORIAN

BEGIN:VEVENT

DTSTART:20260406T000000AMZ
DTEND:20260611T000000AMZ
LOCATION:19 Dundonald St, Hamilton, Bermuda
SUMMARY:Jumpnastics Spring Term
DESCRIPTION:Jumpnastics is a high-energy fusion of gymnastics and jump rope that’s all about bouncing, flipping, and having a blast! It’s like a playground for adults and kids alike, where the only limit is your imagination and your ability to jump! Perfect for those looking to boost their fitness while unleashing their inner athlete, Jumpnastics combines fun and fitness, every jump!
Our Spring sessions are as follows: 
Jump Rope – Tuesdays OR Thursdays at 4:30-5:30PMDive into the exhilarating world of Jump Rope, where a single rope unlocks a treasure trove of skills! Whether you’re a curious beginner or have some experience under your belt, this program welcomes all. Get ready to elevate your footwork, boost your endurance, and sharpen your agility, regardless of your starting point! Jump rope is not just a sport; it’s a dynamic way to enhance hand-eye coordination and refine your motor skills, all while having an absolute blast.
Drop-in sessions are available, cash payment only.
-ALL SESSIONS LOCATED AT MOUNT SAINT AGNES ACADEMY-
REFUND POLICYOnce payment is made, we do not provide refunds unless a medical challenge or unforeseen circumstances arises, ex: COVID or death. Jumpnastics will also reschedule sessions or provide a credit towards next term if sessions are cancelled on behalf of the staff.

END:VEVENT
END:VCALENDAR
