BEGIN:VCALENDAR
VERSION:2.0
PRODID:-//WP EVENT Manager Ical//NONSGML Events //EN
CALSCALE:GREGORIAN

BEGIN:VEVENT

DTSTART:20260706T000000AMZ
DTEND:20260724T000000AMZ
LOCATION:Somerset Brigade BandRoom
SUMMARY:Stuido 10;15: A maker’s space experience
DESCRIPTION:                                           Studio 10;15: The Three-Week Maker Intensive                                 Ages 10–15 | July 6 &#8211; 24th  | Somerset Brigade BandRoom 
 Studio 10;15 is a three-week program built on a Challenge-Based model. Every day, students are presented with a new STEAM objective—from mechanical engineering and textile design to environmental field studies.
But we go deeper than the build. Each challenge is anchored in a Social-Emotional Learning (SEL) theme, such as Persistence, Empathy, or Adaptability. We won’t just teach them how to use a sewing machine or map an ecosystem; we teach them how to think through a problem, work in a team, and trust their own creative voice.
The result? A maker who doesn’t just have a cool project to take home, but the grit and mindset to build the next one.
 
*Space is limited to ensure the best possible hands-on experience. 
 

END:VEVENT
END:VCALENDAR
